BEGIN:VCALENDAR
VERSION:2.0
PRODID:-//ChamberMaster//Event Calendar 2.0//EN
METHOD:PUBLISH
X-PUBLISHED-TTL:P3D
REFRESH-INTERVAL:P3D
CALSCALE:GREGORIAN
BEGIN:VEVENT
DTSTART;VALUE=DATE:20260610
DTEND;VALUE=DATE:20260611
TRANSP:TRANSPARENT
X-MICROSOFT-CDO-ALLDAYEVENT:TRUE
SUMMARY:Hot Rod Power Tour Stops World Wide Technology Raceway
DESCRIPTION:
X-ALT-DESC;FMTTYPE=text/html:
LOCATION:
UID:e.3456.10674
SEQUENCE:3
DTSTAMP:20260421T184453Z
URL:https://www.troymaryvillecoc.com/events/details/hot-rod-power-tour-stops-world-wide-technology-raceway-10674
END:VEVENT

END:VCALENDAR
