BEGIN:VCALENDAR
VERSION:2.0
PRODID:-//ChamberMaster//Event Calendar 2.0//EN
METHOD:PUBLISH
X-PUBLISHED-TTL:P3D
REFRESH-INTERVAL:P3D
CALSCALE:GREGORIAN
BEGIN:VEVENT
DTSTART;VALUE=DATE:20260606
DTEND;VALUE=DATE:20260608
TRANSP:TRANSPARENT
X-MICROSOFT-CDO-ALLDAYEVENT:TRUE
SUMMARY:Indycar Bommarito Automotive Group 500 World Wide Technology Raceway
DESCRIPTION:
X-ALT-DESC;FMTTYPE=text/html:
LOCATION:
UID:e.3456.10675
SEQUENCE:3
DTSTAMP:20260421T172636Z
URL:https://www.troymaryvillecoc.com/events/details/indycar-bommarito-automotive-group-500-world-wide-technology-raceway-10675
END:VEVENT

END:VCALENDAR
