BEGIN:VCALENDAR
VERSION:2.0
PRODID:-//ChamberMaster//Event Calendar 2.0//EN
METHOD:PUBLISH
X-PUBLISHED-TTL:P3D
REFRESH-INTERVAL:P3D
CALSCALE:GREGORIAN
BEGIN:VEVENT
DTSTART:20251219T233000Z
DTEND:20251220T013000Z
X-MICROSOFT-CDO-ALLDAYEVENT:FALSE
SUMMARY:Jump into the Holidays!
DESCRIPTION:Tri-Township Library presents Jump into the Holidays! \n\n- FREE jump night sponsored by the library\n\n- Registration Required
X-ALT-DESC;FMTTYPE=text/html:Tri-Township Library presents Jump into the Holidays!&nbsp\;<br />\n- FREE jump night sponsored by the library<br />\n- Registration Required
LOCATION:Sky Zone in Fairview Heights\, Illinois
UID:e.3456.10522
SEQUENCE:3
DTSTAMP:20260420T102206Z
URL:https://www.troymaryvillecoc.com/events/details/jump-into-the-holidays-10522
END:VEVENT

END:VCALENDAR
