BEGIN:VCALENDAR
VERSION:2.0
PRODID:-//ChamberMaster//Event Calendar 2.0//EN
METHOD:PUBLISH
X-PUBLISHED-TTL:P3D
REFRESH-INTERVAL:P3D
CALSCALE:GREGORIAN
BEGIN:VEVENT
DTSTART:20230926T150000Z
DTEND:20230926T154500Z
X-MICROSOFT-CDO-ALLDAYEVENT:FALSE
SUMMARY:Kindermusik
DESCRIPTION:Kindermusik is a music based education program that uses music to help children learn. Kindermusik classes provided a playful\, nurturing environment where children can learn by singing\, moving\, playing instruments\, and listening to stories. Meets in person at the library. \n\nQuestions:tritownship@gmail.com
X-ALT-DESC;FMTTYPE=text/html:Kindermusik is a music based education program that uses music to help children learn. Kindermusik classes provided a playful\, nurturing environment where children can learn by singing\, moving\, playing instruments\, and listening to stories. Meets in person at the library.&nbsp\;<br />\nQuestions:tritownship@gmail.com
LOCATION:
UID:e.3456.5931
SEQUENCE:3
DTSTAMP:20260420T120337Z
URL:https://www.troymaryvillecoc.com/events/details/kindermusik-09-26-2023-5931
END:VEVENT

END:VCALENDAR
