BEGIN:VCALENDAR
VERSION:2.0
PRODID:-//ChamberMaster//Event Calendar 2.0//EN
METHOD:PUBLISH
X-PUBLISHED-TTL:P3D
REFRESH-INTERVAL:P3D
CALSCALE:GREGORIAN
BEGIN:VEVENT
DTSTART:20230915T183000Z
DTEND:20230915T203000Z
X-MICROSOFT-CDO-ALLDAYEVENT:FALSE
SUMMARY:Knitting and Crocheting
DESCRIPTION:The library's knitting and crocheting group meets twice a month for people to get together and work on their projects while enjoying some company. \n\nQuestions:tritownship@gmail.com
X-ALT-DESC;FMTTYPE=text/html:<br />\nThe library&#39\;s knitting and crocheting group meets twice a month for people to get together and work on their projects while enjoying some company.&nbsp\;<br />\nQuestions:tritownship@gmail.com
LOCATION:
UID:e.3456.5883
SEQUENCE:3
DTSTAMP:20260420T120558Z
URL:https://www.troymaryvillecoc.com/events/details/knitting-and-crocheting-09-15-2023-5883
END:VEVENT

END:VCALENDAR
