BEGIN:VCALENDAR
VERSION:2.0
PRODID:-//ChamberMaster//Event Calendar 2.0//EN
METHOD:PUBLISH
X-PUBLISHED-TTL:P3D
REFRESH-INTERVAL:P3D
CALSCALE:GREGORIAN
BEGIN:VEVENT
DTSTART:20251210T230000Z
DTEND:20251211T020000Z
X-MICROSOFT-CDO-ALLDAYEVENT:FALSE
SUMMARY:LBB: Women in Business Toys for Tots Mix & Mingle
DESCRIPTION:Join us for an evening of holiday cheer in support of Toys for Tots! Enjoy great company\, festive fun\, and the chance to make a difference in the lives of children this holiday season. Bring a new\, unwrapped toy to donate and help spread joy to families in need.\n\n\n\n  Sponsorship Opportunities\n\nYour support as a sponsor helps us make an even greater impact. Choose the level that works best for you and pay directly:\n\n\n	Elf   $100  (5 available)\n	Reindeer   $200 (3 available)\n	Mrs. Claus    $250 (2 available)\n\n\nLet's come together to celebrate the season and support a cause that brightens children's holidays!
X-ALT-DESC;FMTTYPE=text/html:<p data-end="493" data-start="225" style="margin-top: 0px\; color: rgb(34\, 30\, 31)\; font-family: Lato\; font-size: 16px\;"><br />\nJoin us for an evening of holiday cheer in support of <strong>Toys for Tots</strong>! Enjoy great company\, festive fun\, and the chance to make a difference in the lives of children this holiday season. Bring a new\, unwrapped toy to donate and help spread joy to families in need.<br />\n<br />\n&#10024\;<strong> Sponsorship Opportunities</strong><br />\nYour support as a sponsor helps us make an even greater impact. Choose the level that works best for you and pay directly:</p>\n\n<ul>\n	<li data-end="493" data-start="225" style="margin-top: 0px\; color: rgb(34\, 30\, 31)\; font-family: Lato\; font-size: 16px\;"><strong>Elf &ndash\; $100&nbsp\; (5 available)</strong></li>\n	<li data-end="493" data-start="225" style="margin-top: 0px\; color: rgb(34\, 30\, 31)\; font-family: Lato\; font-size: 16px\;"><strong>Reindeer &ndash\; $200 (3 available)</strong></li>\n	<li data-end="493" data-start="225" style="margin-top: 0px\; color: rgb(34\, 30\, 31)\; font-family: Lato\; font-size: 16px\;"><strong>Mrs. Claus&nbsp\; &ndash\; $250 (2 available)</strong></li>\n</ul>\n\n<p data-end="493" data-start="225" style="margin-top: 0px\; color: rgb(34\, 30\, 31)\; font-family: Lato\; font-size: 16px\;">Let&rsquo\;s come together to celebrate the season and support a cause that brightens children&rsquo\;s holidays!</p>\n
LOCATION:Sunset Hill Country Club 2525 S State Rte 157 Edwardsville\, IL 62025
UID:e.3456.10530
SEQUENCE:3
DTSTAMP:20260420T104114Z
URL:https://www.troymaryvillecoc.com/events/details/lbb-women-in-business-toys-for-tots-mix-mingle-10530
END:VEVENT

END:VCALENDAR
