BEGIN:VCALENDAR
VERSION:2.0
PRODID:-//ChamberMaster//Event Calendar 2.0//EN
METHOD:PUBLISH
X-PUBLISHED-TTL:P3D
REFRESH-INTERVAL:P3D
CALSCALE:GREGORIAN
BEGIN:VEVENT
DTSTART:20230911T230000Z
DTEND:20230912T000000Z
X-MICROSOFT-CDO-ALLDAYEVENT:FALSE
SUMMARY:Lego League
DESCRIPTION:Come join our Lego club to build along our monthly theme. This month's theme is knights.
X-ALT-DESC;FMTTYPE=text/html:Come join our Lego club to build along our monthly theme. This month&#39\;s theme is knights.&nbsp\;
LOCATION:
UID:e.3456.6098
SEQUENCE:3
DTSTAMP:20260420T120447Z
URL:https://www.troymaryvillecoc.com/events/details/lego-league-09-11-2023-6098
END:VEVENT

END:VCALENDAR
