BEGIN:VCALENDAR
VERSION:2.0
PRODID:-//ChamberMaster//Event Calendar 2.0//EN
METHOD:PUBLISH
X-PUBLISHED-TTL:P3D
REFRESH-INTERVAL:P3D
CALSCALE:GREGORIAN
BEGIN:VEVENT
DTSTART:20251031T230000Z
DTEND:20251101T003000Z
X-MICROSOFT-CDO-ALLDAYEVENT:FALSE
SUMMARY:Light the Night
DESCRIPTION:Indoor Trick-or-Treating for all ages. There will be door prizes\, arch books\, hot chocolate\, and photo opportunties.
X-ALT-DESC;FMTTYPE=text/html:Indoor Trick-or-Treating for all ages. There will be door prizes\, arch books\, hot chocolate\, and photo opportunties.
LOCATION:Saint Pauls Lutheran Church and ECC 112 North Border Street Troy Illinois
UID:e.3456.10483
SEQUENCE:3
DTSTAMP:20260420T151441Z
URL:https://www.troymaryvillecoc.com/events/details/light-the-night-10483
END:VEVENT

END:VCALENDAR
