BEGIN:VCALENDAR
VERSION:2.0
PRODID:-//ChamberMaster//Event Calendar 2.0//EN
METHOD:PUBLISH
X-PUBLISHED-TTL:P3D
REFRESH-INTERVAL:P3D
CALSCALE:GREGORIAN
BEGIN:VEVENT
DTSTART:20251101T220000Z
DTEND:20251102T030000Z
X-MICROSOFT-CDO-ALLDAYEVENT:FALSE
SUMMARY:LIONS CLUB BINGO
DESCRIPTION:Bingo and Queen of Hearts
X-ALT-DESC;FMTTYPE=text/html:Bingo and Queen of Hearts
LOCATION:St Jacob
UID:e.3456.7856
SEQUENCE:3
DTSTAMP:20260420T120724Z
URL:https://www.troymaryvillecoc.com/events/details/lions-club-bingo-11-01-2025-7856
END:VEVENT

END:VCALENDAR
