BEGIN:VCALENDAR
VERSION:2.0
PRODID:-//ChamberMaster//Event Calendar 2.0//EN
METHOD:PUBLISH
X-PUBLISHED-TTL:P3D
REFRESH-INTERVAL:P3D
CALSCALE:GREGORIAN
BEGIN:VEVENT
DTSTART:20251022T163000Z
DTEND:20251022T180000Z
X-MICROSOFT-CDO-ALLDAYEVENT:FALSE
SUMMARY:Lunch & Learn at Brightly Senior Living
DESCRIPTION:Join Us For Networking & Guest Speaker: Hayley McCallister\,  Collinsville Building & Loan\n\nTopic: 'Marketing Your Business on a Small Budget'\n\n\n\n*Attendees bring own lunch*
X-ALT-DESC;FMTTYPE=text/html:<br />\nJoin Us For Networking &amp\; Guest Speaker:&nbsp\;<span style="font-size: 13px\;">Hayley McCallister\,&nbsp\; Collinsville Building &amp\; Loan<br />\n<em><strong>Topic:</strong></em> &#39\;Marketing Your Business on a Small Budget&#39\;<br />\n<br />\n*Attendees bring own lunch*</span>
LOCATION:Brightly Senior Living 200 Brightly Way Glen Carbon\, IL 62034
UID:e.3456.10130
SEQUENCE:3
DTSTAMP:20260420T170616Z
URL:https://www.troymaryvillecoc.com/events/details/lunch-learn-at-brightly-senior-living-10-22-2025-10130
END:VEVENT

END:VCALENDAR
