BEGIN:VCALENDAR
VERSION:2.0
PRODID:-//ChamberMaster//Event Calendar 2.0//EN
METHOD:PUBLISH
X-PUBLISHED-TTL:P3D
REFRESH-INTERVAL:P3D
CALSCALE:GREGORIAN
BEGIN:VEVENT
DTSTART:20250927T130000Z
DTEND:20250927T220000Z
X-MICROSOFT-CDO-ALLDAYEVENT:FALSE
SUMMARY:Marine Village Wide Garage Sales
DESCRIPTION:
X-ALT-DESC;FMTTYPE=text/html:
LOCATION:Throughout Marine
UID:e.3456.10425
SEQUENCE:3
DTSTAMP:20260420T170738Z
URL:https://www.troymaryvillecoc.com/events/details/marine-village-wide-garage-sales-10425
END:VEVENT

END:VCALENDAR
