BEGIN:VCALENDAR
VERSION:2.0
PRODID:-//ChamberMaster//Event Calendar 2.0//EN
METHOD:PUBLISH
X-PUBLISHED-TTL:P3D
REFRESH-INTERVAL:P3D
CALSCALE:GREGORIAN
BEGIN:VEVENT
DTSTART:20230910T000000Z
DTEND:20230910T011500Z
X-MICROSOFT-CDO-ALLDAYEVENT:FALSE
SUMMARY:Maryville Concert in the Park - Troy Community Band
DESCRIPTION:Presented by: Maryville Parks & Rec\n\n\n\nFull Band Performance!
X-ALT-DESC;FMTTYPE=text/html:<span style="font-size:16px\;"><strong>Presented by: Maryville Parks &amp\; Rec</strong></span><br />\n<br />\nFull Band Performance!
LOCATION:Firemen's Park 300 North Donk Avenue Maryville\, IL 62062
UID:e.3456.6341
SEQUENCE:3
DTSTAMP:20260420T120951Z
URL:https://www.troymaryvillecoc.com/events/details/maryville-concert-in-the-park-troy-community-band-6341
END:VEVENT

END:VCALENDAR
