BEGIN:VCALENDAR
VERSION:2.0
PRODID:-//ChamberMaster//Event Calendar 2.0//EN
METHOD:PUBLISH
X-PUBLISHED-TTL:P3D
REFRESH-INTERVAL:P3D
CALSCALE:GREGORIAN
BEGIN:VEVENT
DTSTART:20230923T140000Z
DTEND:20230923T170000Z
X-MICROSOFT-CDO-ALLDAYEVENT:FALSE
SUMMARY:Maryville E-Cycling & Shredding Event 2023
DESCRIPTION:E-cycle: CJD E-cycling\n\nShredding: The Shred Truck
X-ALT-DESC;FMTTYPE=text/html:E-cycle: CJD E-cycling<br />\nShredding: The Shred Truck<br />\n&nbsp\;
LOCATION:First Baptist Church 7110 State Route 162 Maryville\, IL
UID:e.3456.4796
SEQUENCE:3
DTSTAMP:20260420T120538Z
URL:https://www.troymaryvillecoc.com/events/details/maryville-e-cycling-shredding-event-2023-4796
END:VEVENT

END:VCALENDAR
