BEGIN:VCALENDAR
VERSION:2.0
PRODID:-//ChamberMaster//Event Calendar 2.0//EN
METHOD:PUBLISH
X-PUBLISHED-TTL:P3D
REFRESH-INTERVAL:P3D
CALSCALE:GREGORIAN
BEGIN:VEVENT
DTSTART:20230928T203000Z
DTEND:20230928T213000Z
X-MICROSOFT-CDO-ALLDAYEVENT:FALSE
SUMMARY:Messy Hands
DESCRIPTION:Come explore different sensory stations with us! The best part is that the mess stays with us! Sometimes clothes can get messy so we recommend wearing comfortable clothes you wouldn't mind getting a little dirty. No registration is required. \n\nQuestions:tritownship@gmail.com
X-ALT-DESC;FMTTYPE=text/html:<br>\nCome explore different sensory stations with us! The best part is that the mess stays with us! Sometimes clothes can get messy so we recommend wearing comfortable clothes you wouldn't mind getting a little dirty. No registration is required.&nbsp\;<br>\nQuestions:tritownship@gmail.com
LOCATION:
UID:e.3456.5923
SEQUENCE:3
DTSTAMP:20260420T120202Z
URL:https://www.troymaryvillecoc.com/events/details/messy-hands-09-28-2023-5923
END:VEVENT

END:VCALENDAR
