BEGIN:VCALENDAR
VERSION:2.0
PRODID:-//ChamberMaster//Event Calendar 2.0//EN
METHOD:PUBLISH
X-PUBLISHED-TTL:P3D
REFRESH-INTERVAL:P3D
CALSCALE:GREGORIAN
BEGIN:VEVENT
DTSTART:20251016T133000Z
DTEND:20251016T200000Z
X-MICROSOFT-CDO-ALLDAYEVENT:FALSE
SUMMARY:Metro Easat Teen Driver Safety - Safety Days
DESCRIPTION:Teen Safe Driving Course
X-ALT-DESC;FMTTYPE=text/html:Teen Safe Driving Course
LOCATION:Gateway Convention Center 1 Gateway Drive\, Collinsville IL\, 62234
UID:e.3456.10006
SEQUENCE:3
DTSTAMP:20260420T171208Z
URL:https://www.troymaryvillecoc.com/events/details/metro-easat-teen-driver-safety-safety-days-10-16-2025-10006
END:VEVENT

END:VCALENDAR
