BEGIN:VCALENDAR
VERSION:2.0
PRODID:-//ChamberMaster//Event Calendar 2.0//EN
METHOD:PUBLISH
X-PUBLISHED-TTL:P3D
REFRESH-INTERVAL:P3D
CALSCALE:GREGORIAN
BEGIN:VEVENT
DTSTART:20230921T223000Z
DTEND:20230922T010000Z
X-MICROSOFT-CDO-ALLDAYEVENT:FALSE
SUMMARY:MidAmerica Plastic Surgery's Annual Patient Appreciation Event
DESCRIPTION:MidAmerica Plastic Surgery is excited to welcome our patients back for our annual Patient Appreciation event on Thursday\, September 21\, 2023! We have an exciting list of vendors who will be present at this year's event. Blues Fired Pizza & Seoul Taco will be dishing out some great food while Destination Desserts serves up some yummy treats. In addition to some tasty treats\, both adult beverages and NA options will be available. Wandering Sidecar Bar will be serving beverages throughout the evening.\n\n\n\nGuests can also expect to enjoy live music and be entered into exciting giveaways. You won't want to miss it! Keep checking in here on our events page to keep up to date on the latest event news from MidAmerica Plastic Surgery and The Spa at MidAmerica.
X-ALT-DESC;FMTTYPE=text/html:<span style="background-color:rgb(251\, 251\, 251)\; color:rgb(84\, 84\, 84)\; font-family:open-sans\,helvetica neue\,helvetica\,arial\,sans-serif\; font-size:16px">MidAmerica Plastic Surgery is excited to welcome our patients back for our annual Patient Appreciation event on&nbsp\;Thursday\, September 21\, 2023!&nbsp\;We have an exciting list of vendors who will be present at this year&rsquo\;s event. Blues Fired Pizza &amp\; Seoul Taco will be dishing out some great food while Destination Desserts serves up some yummy treats. In addition to some tasty treats\, both adult beverages and NA options will be available. Wandering Sidecar Bar will be serving beverages throughout the evening.<br />\n<br />\nGuests can also expect to enjoy live music and be entered into exciting giveaways. You won&rsquo\;t want to miss it! Keep checking in here on our events page to keep up to date on the latest event news from MidAmerica Plastic Surgery and The Spa at MidAmerica.</span><br />\n&nbsp\;
LOCATION:MidAmerica Plastic Surgery 4955 State Route 159 Glen Carbon\, IL 62034
UID:e.3456.7002
SEQUENCE:3
DTSTAMP:20260420T120446Z
URL:https://www.troymaryvillecoc.com/events/details/midamerica-plastic-surgery-s-annual-patient-appreciation-event-7002
END:VEVENT

END:VCALENDAR
