BEGIN:VCALENDAR
VERSION:2.0
PRODID:-//ChamberMaster//Event Calendar 2.0//EN
METHOD:PUBLISH
X-PUBLISHED-TTL:P3D
REFRESH-INTERVAL:P3D
CALSCALE:GREGORIAN
BEGIN:VEVENT
DTSTART;VALUE=DATE:20260619
DTEND;VALUE=DATE:20260620
TRANSP:TRANSPARENT
X-MICROSOFT-CDO-ALLDAYEVENT:TRUE
SUMMARY:Midnight Madness #4 World Wide Technology Raceway
DESCRIPTION:
X-ALT-DESC;FMTTYPE=text/html:
LOCATION:
UID:e.3456.10680
SEQUENCE:3
DTSTAMP:20260421T172016Z
URL:https://www.troymaryvillecoc.com/events/details/midnight-madness-4-world-wide-technology-raceway-10680
END:VEVENT

END:VCALENDAR
