BEGIN:VCALENDAR
VERSION:2.0
PRODID:-//ChamberMaster//Event Calendar 2.0//EN
METHOD:PUBLISH
X-PUBLISHED-TTL:P3D
REFRESH-INTERVAL:P3D
CALSCALE:GREGORIAN
BEGIN:VEVENT
DTSTART:20251010T230000Z
DTEND:20251010T230000Z
X-MICROSOFT-CDO-ALLDAYEVENT:FALSE
SUMMARY:Midnight Madness - Fall Festival
DESCRIPTION:Gates Open: 6 PM | Racing Starts: 7 PM\n\n  Open to street-legal cars & motorcycles must have a valid license\, registration\, and insurance. No race cars allowed.\n\n  All vehicles must pass a safety inspection. Drivers must present a valid license at tech. Minors (16-17) need a parental consent form.\n\n  Pricing:\n\nSave by pre-registering on Pit Pay!\n\n  EOD Monday before the event: $30 | Tuesday-Friday at 4 PM: $35 | At the Gate: $40\n\n  Spectators: $20 (TixR)\n\n  Trackside Spectator Parking: $20\n\nMidnight Madness Season Pass available for Car & Driver ($225) & Crew ($140) via Pit Pay good for all 9 events!\n\n  Event Schedule:\n\n  Gates Open: 6 PM |   Racing: 7 PM |   Staging Lanes Close: 12:00 AM |   Pit Sweep: 1:00 AM\n\nGet your passes early & save!
X-ALT-DESC;FMTTYPE=text/html:&#128197\; Gates Open: 6 PM | Racing Starts: 7 PM<br />\n&#127937\; Open to street-legal cars &amp\; motorcycles&mdash\;must have a valid license\, registration\, and insurance. No race cars allowed.<br />\n&#128269\; All vehicles must pass a safety inspection. Drivers must present a valid license at tech. Minors (16-17) need a parental consent form.<br />\n&#128178\; Pricing:<br />\nSave by pre-registering on Pit Pay!<br />\n&#128101\; EOD Monday before the event: $30 | Tuesday-Friday at 4 PM: $35 | At the Gate: $40<br />\n&#128101\; Spectators: $20 (TixR)<br />\n&#128663\; Trackside Spectator Parking: $20<br />\nMidnight Madness Season Pass available for Car &amp\; Driver ($225) &amp\; Crew ($140) via Pit Pay&mdash\;good for all 9 events!<br />\n&#9203\; Event Schedule:<br />\n&#128341\; Gates Open: 6 PM | &#127937\; Racing: 7 PM | &#128678\; Staging Lanes Close: 12:00 AM | &#128679\; Pit Sweep: 1:00 AM<br />\nGet your passes early &amp\; save! &#127903\;&#65039\;
LOCATION:700 Raceway Blvd Madison\, IL 62060
UID:e.3456.10176
SEQUENCE:3
DTSTAMP:20260420T152410Z
URL:https://www.troymaryvillecoc.com/events/details/midnight-madness-fall-festival-10176
END:VEVENT

END:VCALENDAR
