BEGIN:VCALENDAR
VERSION:2.0
PRODID:-//ChamberMaster//Event Calendar 2.0//EN
METHOD:PUBLISH
X-PUBLISHED-TTL:P3D
REFRESH-INTERVAL:P3D
CALSCALE:GREGORIAN
BEGIN:VEVENT
DTSTART:20251017T230000Z
DTEND:20251018T010000Z
X-MICROSOFT-CDO-ALLDAYEVENT:FALSE
SUMMARY:Orin Swift Education Tasting & Class at Sav-On Liquor & Wine
DESCRIPTION:Orin Swift Education & Wine Tasting   \n\n\n\nJoin us on Friday\, October 17th from 6 8pm at Sav-On Liquor & Wine\, 6100 Center Grove Rd\, Edwardsville\, IL for an unforgettable evening celebrating the bold artistry of Orin Swift wines.\n\n\n\nWe'll be featuring:\n\n  Abstract   lush & vibrant red blend\n\n  Machete   rich\, powerful\, unapologetically bold\n\n  8 Years in the Desert   a celebrated Zinfandel blend\n\n  Sign of the Times   rare & expressive\n\n   Cost: $10 per person + fees: https://www.eventbrite.com/e/orin-swift-education-wine-tasting-tickets-1765874992639\n\n  Includes a $10 voucher to use the night of the event\n\n  Plus\, your chance to win an Orin Swift skateboard   a true collector's item!\n\n\n\nWhether you're already a fan or discovering Orin Swift for the first time\, this tasting is the perfect way to sip\, savor\, and celebrate.
X-ALT-DESC;FMTTYPE=text/html:<div dir="auto" style="font-family: &quot\;Segoe UI Historic&quot\;\, &quot\;Segoe UI&quot\;\, Helvetica\, Arial\, sans-serif\; color: rgb(8\, 8\, 9)\; font-size: 14px\; white-space-collapse: preserve\;">&#127863\;&#10024\; Orin Swift Education &amp\; Wine Tasting &#10024\;&#127863\;<br />\n<br />\nJoin us on Friday\, October 17th from 6&ndash\;8pm at Sav-On Liquor &amp\; Wine\, 6100 Center Grove Rd\, Edwardsville\, IL for an unforgettable evening celebrating the bold artistry of Orin Swift wines.<br />\n<br />\nWe&rsquo\;ll be featuring:<br />\n&#127815\; Abstract &ndash\; lush &amp\; vibrant red blend<br />\n&#127815\; Machete &ndash\; rich\, powerful\, unapologetically bold<br />\n&#127815\; 8 Years in the Desert &ndash\; a celebrated Zinfandel blend<br />\n&#127815\; Sign of the Times &ndash\; rare &amp\; expressive<br />\n&#127903\;&#65039\; Cost: $10 per person + fees: <a href="https://www.eventbrite.com/e/orin-swift-education-wine-tasting-tickets-1765874992639">https://www.eventbrite.com/e/orin-swift-education-wine-tasting-tickets-1765874992639</a><br />\n&#128181\; Includes a $10 voucher to use the night of the event<br />\n&#128761\; Plus\, your chance to win an Orin Swift skateboard &ndash\; a true collector&rsquo\;s item!<br />\n<br />\nWhether you&rsquo\;re already a fan or discovering Orin Swift for the first time\, this tasting is the perfect way to sip\, savor\, and celebrate. &#127863\;</div>\n
LOCATION:Sav-On Liquor & Wine Edwardsville 6100 Center Grove Rd Edwardsville\, IL 62025
UID:e.3456.10513
SEQUENCE:3
DTSTAMP:20260420T170546Z
URL:https://www.troymaryvillecoc.com/events/details/orin-swift-education-tasting-class-at-sav-on-liquor-wine-10513
END:VEVENT

END:VCALENDAR
