BEGIN:VCALENDAR
VERSION:2.0
PRODID:-//ChamberMaster//Event Calendar 2.0//EN
METHOD:PUBLISH
X-PUBLISHED-TTL:P3D
REFRESH-INTERVAL:P3D
CALSCALE:GREGORIAN
BEGIN:VEVENT
DTSTART:20230918T230000Z
DTEND:20230919T000000Z
X-MICROSOFT-CDO-ALLDAYEVENT:FALSE
SUMMARY:Parks & Rec Meeting
DESCRIPTION:Monthly committee meeting to discuss Parks and Recreation issues and events.
X-ALT-DESC;FMTTYPE=text/html:<br />\nMonthly committee meeting to discuss Parks and Recreation issues and events.&nbsp\;
LOCATION:Village Hall 2520 N. Center Street Maryville\, IL 62062
UID:e.3456.6346
SEQUENCE:3
DTSTAMP:20260420T120202Z
URL:https://www.troymaryvillecoc.com/events/details/parks-rec-meeting-6346
END:VEVENT

END:VCALENDAR
