BEGIN:VCALENDAR
VERSION:2.0
PRODID:-//ChamberMaster//Event Calendar 2.0//EN
METHOD:PUBLISH
X-PUBLISHED-TTL:P3D
REFRESH-INTERVAL:P3D
CALSCALE:GREGORIAN
BEGIN:VEVENT
DTSTART:20230926T000000Z
DTEND:20230926T010000Z
X-MICROSOFT-CDO-ALLDAYEVENT:FALSE
SUMMARY:Planning Commission Meeting
DESCRIPTION:The Planning Commission meets on the fourth Monday of each month to discuss zoning issues.
X-ALT-DESC;FMTTYPE=text/html:<br />\nThe Planning Commission meets on the fourth Monday of each month to discuss zoning issues.&nbsp\;
LOCATION:Village Hall 2520 N. Center Street Maryville\, IL 62062
UID:e.3456.6320
SEQUENCE:3
DTSTAMP:20260420T120431Z
URL:https://www.troymaryvillecoc.com/events/details/planning-commission-meeting-09-25-2023-6320
END:VEVENT

END:VCALENDAR
