BEGIN:VCALENDAR
VERSION:2.0
PRODID:-//ChamberMaster//Event Calendar 2.0//EN
METHOD:PUBLISH
X-PUBLISHED-TTL:P3D
REFRESH-INTERVAL:P3D
CALSCALE:GREGORIAN
BEGIN:VEVENT
DTSTART:20251108T160000Z
DTEND:20251108T200000Z
X-MICROSOFT-CDO-ALLDAYEVENT:FALSE
SUMMARY:Repair Rebellion - Don't toss it - Fix it for free!
DESCRIPTION:Join Repair-O-Tech for a free community repair event where local volunteer experts\, including TechDoc\, Troy Car Care\, and more\, will do their best to mend your broken electronics\, small appliances\, jewelry\, and more. This event helps you save money and reduce landfill waste.
X-ALT-DESC;FMTTYPE=text/html:Join Repair-O-Tech for a free community repair event where local volunteer experts\, including TechDoc\, Troy Car Care\, and more\, will do their best to mend your broken electronics\, small appliances\, jewelry\, and more. This event helps you save money and reduce landfill waste.&nbsp\;
LOCATION:Tri-Township Library
UID:e.3456.10532
SEQUENCE:3
DTSTAMP:20260420T120752Z
URL:https://www.troymaryvillecoc.com/events/details/repair-rebellion-don-t-toss-it-fix-it-for-free-10532
END:VEVENT

END:VCALENDAR
