BEGIN:VCALENDAR
VERSION:2.0
PRODID:-//ChamberMaster//Event Calendar 2.0//EN
METHOD:PUBLISH
X-PUBLISHED-TTL:P3D
REFRESH-INTERVAL:P3D
CALSCALE:GREGORIAN
BEGIN:VEVENT
DTSTART:20251121T200000Z
DTEND:20251121T210000Z
X-MICROSOFT-CDO-ALLDAYEVENT:FALSE
SUMMARY:Ribbon Cutting at King City Liquor 2
DESCRIPTION:
X-ALT-DESC;FMTTYPE=text/html:
LOCATION:King City Liquor 2 625 Edwardsville Rd. Troy\, IL 62294
UID:e.3456.10529
SEQUENCE:3
DTSTAMP:20260420T102625Z
URL:https://www.troymaryvillecoc.com/events/details/ribbon-cutting-at-king-city-liquor-2-10529
END:VEVENT

END:VCALENDAR
