BEGIN:VCALENDAR
VERSION:2.0
PRODID:-//ChamberMaster//Event Calendar 2.0//EN
METHOD:PUBLISH
X-PUBLISHED-TTL:P3D
REFRESH-INTERVAL:P3D
CALSCALE:GREGORIAN
BEGIN:VEVENT
DTSTART:20230922T130000Z
DTEND:20230922T140000Z
X-MICROSOFT-CDO-ALLDAYEVENT:FALSE
SUMMARY:Rise UP with the CAC
DESCRIPTION:The Madison County Child Advocacy Center invites you to Rise UP with the CAC on the fourth Friday of every month. The Madison County Child Advocacy Center provides professional itervention and supportive services to fight child abuse in Madison and Bond Counties. Come tour our child-focused facility\, meet our team of forensic interviewers and case managers\, step inside the forensic interview and waiting rooms\, and learn first-hand how the Madison County Child Advocacy Center fights to end child abuse in our community every day. Rise UP is hosted monthly at the Madison County Child Advocacy Center on the 4th Friday of the month. Registration is required and can be found on our website\, madco-cac.org
X-ALT-DESC;FMTTYPE=text/html:The Madison County Child Advocacy Center invites you to Rise UP with the CAC on the fourth Friday of every month. The Madison County Child Advocacy Center provides professional itervention and supportive services to fight child abuse in Madison and Bond Counties. Come tour our child-focused facility\, meet our team of forensic interviewers and case managers\, step inside the forensic interview and waiting rooms\, and learn first-hand how the Madison County Child Advocacy Center fights to end child abuse in our community every day. Rise UP is hosted monthly at the Madison County Child Advocacy Center on the 4th Friday of the month. Registration is required and can be found on our website\, madco-cac.org
LOCATION:101 E Edwardsville Road\, Wood River\, IL 62095
UID:e.3456.6374
SEQUENCE:3
DTSTAMP:20260420T120705Z
URL:https://www.troymaryvillecoc.com/events/details/rise-up-with-the-cac-09-22-2023-6374
END:VEVENT

END:VCALENDAR
