BEGIN:VCALENDAR
VERSION:2.0
PRODID:-//ChamberMaster//Event Calendar 2.0//EN
METHOD:PUBLISH
X-PUBLISHED-TTL:P3D
REFRESH-INTERVAL:P3D
CALSCALE:GREGORIAN
BEGIN:VEVENT
DTSTART:20230927T230000Z
DTEND:20230928T000000Z
X-MICROSOFT-CDO-ALLDAYEVENT:FALSE
SUMMARY:Maryville Community Library Royal Reader's Story Time
DESCRIPTION:Come join Diana for a special story time. Themed around our Summer Reading Program\, we will read books about knights and dragons.
X-ALT-DESC;FMTTYPE=text/html:Come join Diana for a special story time. Themed around our Summer Reading Program\, we will read books about knights and dragons.&nbsp\;
LOCATION:Maryville Library 8 Schiber Ct\, Maryville\, IL 62062
UID:e.3456.6114
SEQUENCE:3
DTSTAMP:20260420T120448Z
URL:https://www.troymaryvillecoc.com/events/details/royal-reader-s-story-time-09-27-2023-6114
END:VEVENT

END:VCALENDAR
