BEGIN:VCALENDAR
VERSION:2.0
PRODID:-//ChamberMaster//Event Calendar 2.0//EN
METHOD:PUBLISH
X-PUBLISHED-TTL:P3D
REFRESH-INTERVAL:P3D
CALSCALE:GREGORIAN
BEGIN:VEVENT
DTSTART:20250921T140000Z
DTEND:20250921T220000Z
X-MICROSOFT-CDO-ALLDAYEVENT:FALSE
SUMMARY:Saint Jacob Fall Fest & Craft Fair
DESCRIPTION:Now booking craft vendors and food trucks \n\n$30 per spot \n\nMust be booked before July 31st\, 2025
X-ALT-DESC;FMTTYPE=text/html:Now booking craft vendors and food trucks&nbsp\;<br />\n$30 per spot&nbsp\;<br />\nMust be booked before July 31st\, 2025&nbsp\;
LOCATION:on St. Jacob
UID:e.3456.10228
SEQUENCE:3
DTSTAMP:20260420T170226Z
URL:https://www.troymaryvillecoc.com/events/details/saint-jacob-fall-fest-craft-fair-10228
END:VEVENT

END:VCALENDAR
