BEGIN:VCALENDAR
VERSION:2.0
PRODID:-//ChamberMaster//Event Calendar 2.0//EN
METHOD:PUBLISH
X-PUBLISHED-TTL:P3D
REFRESH-INTERVAL:P3D
CALSCALE:GREGORIAN
BEGIN:VEVENT
DTSTART:20251011T170000Z
DTEND:20251012T000000Z
X-MICROSOFT-CDO-ALLDAYEVENT:FALSE
SUMMARY:Sausage Supper
DESCRIPTION:Annual Suasage Supper - Drive thru only
X-ALT-DESC;FMTTYPE=text/html:Annual Suasage Supper - Drive thru only
LOCATION:Evangelical United Church of Christ 2520 Poplar Street Highland\, IL 62249
UID:e.3456.10482
SEQUENCE:3
DTSTAMP:20260420T152338Z
URL:https://www.troymaryvillecoc.com/events/details/sausage-supper-10482
END:VEVENT

END:VCALENDAR
