BEGIN:VCALENDAR
VERSION:2.0
PRODID:-//ChamberMaster//Event Calendar 2.0//EN
METHOD:PUBLISH
X-PUBLISHED-TTL:P3D
REFRESH-INTERVAL:P3D
CALSCALE:GREGORIAN
BEGIN:VEVENT
DTSTART;VALUE=DATE:20251101
DTEND;VALUE=DATE:20251201
TRANSP:TRANSPARENT
X-MICROSOFT-CDO-ALLDAYEVENT:TRUE
SUMMARY:Small Business November
DESCRIPTION:Supporting small businesses during Small Business November is a powerful way to invest in our communities. These local shops\, restaurants\, and service providers are the backbone of the economy\, creating jobs\, fostering innovation\, and adding character to our neighborhoods. By choosing to shop small\, we help sustain the dreams of entrepreneurs and keep money circulating within the local economy. Every purchase makes a big difference and helps build a more resilient\, connected community.
X-ALT-DESC;FMTTYPE=text/html:Supporting small businesses during Small Business November is a powerful way to invest in our communities. These local shops\, restaurants\, and service providers are the backbone of the economy\, creating jobs\, fostering innovation\, and adding character to our neighborhoods. By choosing to shop small\, we help sustain the dreams of entrepreneurs and keep money circulating within the local economy. Every purchase makes a big difference and helps build a more resilient\, connected community.
LOCATION:Throughout Troy\, Maryville\, St. Jacob & Marine
UID:e.3456.10214
SEQUENCE:3
DTSTAMP:20260420T120242Z
URL:https://www.troymaryvillecoc.com/events/details/small-business-november-10214
END:VEVENT

END:VCALENDAR
