BEGIN:VCALENDAR
VERSION:2.0
PRODID:-//ChamberMaster//Event Calendar 2.0//EN
METHOD:PUBLISH
X-PUBLISHED-TTL:P3D
REFRESH-INTERVAL:P3D
CALSCALE:GREGORIAN
BEGIN:VEVENT
DTSTART:20251025T230000Z
DTEND:20251026T020000Z
X-MICROSOFT-CDO-ALLDAYEVENT:FALSE
SUMMARY:Southern Illinois Championship Wrestling
DESCRIPTION:SICW Wrestling in the Activity Center!\n\nEnjoy a Night of Wrestling with The Family.\n\nTickets for the Event Will Be Available Online and at The Door.
X-ALT-DESC;FMTTYPE=text/html:<span style="font-size: 13px\;">SICW Wrestling in the Activity Center!<br />\nEnjoy a Night of Wrestling with The Family.<br />\nTickets for the Event Will Be Available Online and at The Door.</span>
LOCATION:284 Riggin Rd\, Troy\, IL 62294-3401\, United States
UID:e.3456.10143
SEQUENCE:3
DTSTAMP:20260420T152502Z
URL:https://www.troymaryvillecoc.com/events/details/southern-illinois-championship-wrestling-10143
END:VEVENT

END:VCALENDAR
