BEGIN:VCALENDAR
VERSION:2.0
PRODID:-//ChamberMaster//Event Calendar 2.0//EN
METHOD:PUBLISH
X-PUBLISHED-TTL:P3D
REFRESH-INTERVAL:P3D
CALSCALE:GREGORIAN
BEGIN:VEVENT
DTSTART:20230908T180000Z
DTEND:20230908T180000Z
X-MICROSOFT-CDO-ALLDAYEVENT:FALSE
SUMMARY:St. John Neuman Golf Scramble
DESCRIPTION:SJN's Golf Classic is a four-person team scramble held annually at Spencer T. Olin Golf Course in Alton\, Illinois   an exquisite setting in the 750 acre Gordon F. Moore Community Park.  The tournament is one of the largest fundraisers the school has each year\, having raised thousands of dollars for Catholic education. We invite you to join us as we tee one up for the kids at St. John Neumann Catholic School   an event that\, year after year\, supports spiritual growth and academic excellence for our young Crusaders.\n\n \n\nRegistration opens and lunch served at 11 a.m. (hot dogs\, chips\, etc.)\n\nShot gun start at 1 p.m.\n\nOn-course refreshments served.\n\nDinner served around 6 p.m. \n\n\n\nEARLY BIRD PRICING!  Register today!  Prices increase $15 per golfer and $50 per sponsorship after August 14th.\n\n\n\nRegister Here: \n\nhttps://sjncrusaders.ejoinme.org/SJNGolfClassic?fbclid=IwAR3gKb0BoH0oin0iZ64skBeG8q_ydC5pNYvGBqtyJjVptCu648AZrbvm5vA_aem_AXE4b94QxDTrUbRwSn1BJPL25xn0QHUs_6pdU0WsKQOmeJNRYS9uZg6bytxoF7LUuQQ
X-ALT-DESC;FMTTYPE=text/html:<div id="dnn_ctr1969469_ViewAESOPRegistration_rmodule_customTextIntroDiv" style="box-sizing: border-box\; margin: 0px\; padding: 0px\; border: 0px\; font-variant-numeric: inherit\; font-variant-east-asian: inherit\; font-variant-alternates: inherit\; font-stretch: inherit\; font-size: 14px\; line-height: inherit\; font-family: Roboto\; font-optical-sizing: inherit\; font-kerning: inherit\; font-feature-settings: inherit\; font-variation-settings: inherit\; vertical-align: baseline\; color: rgb(0\, 0\, 0)\;">\n<p style="box-sizing: border-box\; margin: 0px 0px 10px\; padding: 0px\; border: 0px\; font-style: inherit\; font-variant: inherit\; font-stretch: inherit\; line-height: inherit\; font-family: inherit\; font-optical-sizing: inherit\; font-kerning: inherit\; font-feature-settings: inherit\; font-variation-settings: inherit\; vertical-align: baseline\;"><span style="box-sizing: border-box\; margin: 0px\; padding: 0px\; border: 0px\; font-style: inherit\; font-variant: inherit\; font-weight: inherit\; font-stretch: inherit\; font-size: inherit\; line-height: inherit\; font-family: Verdana\; font-optical-sizing: inherit\; font-kerning: inherit\; font-feature-settings: inherit\; font-variation-settings: inherit\; vertical-align: baseline\;">SJN&#39\;s Golf Classic is a four-person team scramble held annually at Spencer T. Olin Golf Course in Alton\, Illinois &mdash\; an exquisite setting in the 750 acre Gordon F. Moore Community Park. &nbsp\;The tournament is one of the largest fundraisers the school has each year\, having raised thousands of dollars for Catholic education.&nbsp\;<strong style="box-sizing: border-box\; margin: 0px\; padding: 0px\; border: 0px\; font-style: inherit\; font-variant: inherit\; font-stretch: inherit\; font-size: inherit\; line-height: inherit\; font-family: inherit\; font-optical-sizing: inherit\; font-kerning: inherit\; font-feature-settings: inherit\; font-variation-settings: inherit\; vertical-align: baseline\;">We invite you to join us as we tee one up for the kids at St. John Neumann Catholic School&nbsp\;</strong>&mdash\; an event that\, year after year\, supports spiritual growth and academic excellence for our young Crusaders.</span></p>\n\n<p style="box-sizing: border-box\; margin: 0px 0px 10px\; padding: 0px\; border: 0px\; font-style: inherit\; font-variant: inherit\; font-stretch: inherit\; line-height: inherit\; font-family: inherit\; font-optical-sizing: inherit\; font-kerning: inherit\; font-feature-settings: inherit\; font-variation-settings: inherit\; vertical-align: baseline\;">&nbsp\;</p>\n\n<p style="box-sizing: border-box\; margin: 0px 0px 10px\; padding: 0px\; border: 0px\; font-style: inherit\; font-variant: inherit\; font-stretch: inherit\; line-height: inherit\; font-family: inherit\; font-optical-sizing: inherit\; font-kerning: inherit\; font-feature-settings: inherit\; font-variation-settings: inherit\; vertical-align: baseline\;"><span id="docs-internal-guid-5bff7ece-8d6b-7fe7-67d2-a2d2ff5b60b0" style="box-sizing: border-box\; margin: 0px\; padding: 0px\; border: 0px\; font-style: inherit\; font-variant: inherit\; font-weight: inherit\; font-stretch: inherit\; font-size: inherit\; line-height: inherit\; font-family: Verdana\; font-optical-sizing: inherit\; font-kerning: inherit\; font-feature-settings: inherit\; font-variation-settings: inherit\; vertical-align: baseline\;">Registration opens and lunch served at 11 a.m. (hot dogs\, chips\, etc.)</span></p>\n\n<p style="box-sizing: border-box\; margin: 0px 0px 10px\; padding: 0px\; border: 0px\; font-style: inherit\; font-variant: inherit\; font-stretch: inherit\; line-height: inherit\; font-family: inherit\; font-optical-sizing: inherit\; font-kerning: inherit\; font-feature-settings: inherit\; font-variation-settings: inherit\; vertical-align: baseline\;"><span id="docs-internal-guid-5bff7ece-8d6b-7fe7-67d2-a2d2ff5b60b0" style="box-sizing: border-box\; margin: 0px\; padding: 0px\; border: 0px\; font-style: inherit\; font-variant: inherit\; font-weight: inherit\; font-stretch: inherit\; font-size: inherit\; line-height: inherit\; font-family: Verdana\; font-optical-sizing: inherit\; font-kerning: inherit\; font-feature-settings: inherit\; font-variation-settings: inherit\; vertical-align: baseline\;">Shot gun start at 1 p.m.</span></p>\n\n<p style="box-sizing: border-box\; margin: 0px 0px 10px\; padding: 0px\; border: 0px\; font-style: inherit\; font-variant: inherit\; font-stretch: inherit\; line-height: inherit\; font-family: inherit\; font-optical-sizing: inherit\; font-kerning: inherit\; font-feature-settings: inherit\; font-variation-settings: inherit\; vertical-align: baseline\;"><span style="box-sizing: border-box\; margin: 0px\; padding: 0px\; border: 0px\; font-style: inherit\; font-variant: inherit\; font-weight: inherit\; font-stretch: inherit\; font-size: inherit\; line-height: inherit\; font-family: Verdana\; font-optical-sizing: inherit\; font-kerning: inherit\; font-feature-settings: inherit\; font-variation-settings: inherit\; vertical-align: baseline\;">On-course refreshments served.</span></p>\n\n<p style="box-sizing: border-box\; margin: 0px 0px 10px\; padding: 0px\; border: 0px\; font-style: inherit\; font-variant: inherit\; font-stretch: inherit\; line-height: inherit\; font-family: inherit\; font-optical-sizing: inherit\; font-kerning: inherit\; font-feature-settings: inherit\; font-variation-settings: inherit\; vertical-align: baseline\;"><span style="box-sizing: border-box\; margin: 0px\; padding: 0px\; border: 0px\; font-style: inherit\; font-variant: inherit\; font-weight: inherit\; font-stretch: inherit\; font-size: inherit\; line-height: inherit\; font-family: Verdana\; font-optical-sizing: inherit\; font-kerning: inherit\; font-feature-settings: inherit\; font-variation-settings: inherit\; vertical-align: baseline\;">Dinner served around 6 p.m.&nbsp\;<br style="box-sizing: border-box\;" />\n<br style="box-sizing: border-box\;" />\n<strong style="box-sizing: border-box\; margin: 0px\; padding: 0px\; border: 0px\; font-style: inherit\; font-variant: inherit\; font-stretch: inherit\; font-size: inherit\; line-height: inherit\; font-family: inherit\; font-optical-sizing: inherit\; font-kerning: inherit\; font-feature-settings: inherit\; font-variation-settings: inherit\; vertical-align: baseline\;"><span style="box-sizing: border-box\; margin: 0px\; padding: 0px\; border: 0px\; font: inherit\; vertical-align: baseline\; background-color: rgb(255\, 255\, 0)\;">EARLY BIRD PRICING!&nbsp\; Register today!&nbsp\; Prices increase $15 per golfer and $50 per sponsorship after August 14th.</span></strong></span><br />\n<br />\n<strong>Register Here:</strong>&nbsp\;<br />\n<a href="https://sjncrusaders.ejoinme.org/SJNGolfClassic?fbclid=IwAR3gKb0BoH0oin0iZ64skBeG8q_ydC5pNYvGBqtyJjVptCu648AZrbvm5vA_aem_AXE4b94QxDTrUbRwSn1BJPL25xn0QHUs_6pdU0WsKQOmeJNRYS9uZg6bytxoF7LUuQQ">https://sjncrusaders.ejoinme.org/SJNGolfClassic?fbclid=IwAR3gKb0BoH0oin0iZ64skBeG8q_ydC5pNYvGBqtyJjVptCu648AZrbvm5vA_aem_AXE4b94QxDTrUbRwSn1BJPL25xn0QHUs_6pdU0WsKQOmeJNRYS9uZg6bytxoF7LUuQQ</a></p>\n</div>\n
LOCATION:Spencer T. Olin Golf Course: 4701 College Ave\, Alton\, IL 62002
UID:e.3456.7003
SEQUENCE:3
DTSTAMP:20260420T120203Z
URL:https://www.troymaryvillecoc.com/events/details/st-john-neuman-golf-scramble-7003
END:VEVENT

END:VCALENDAR
