BEGIN:VCALENDAR
VERSION:2.0
PRODID:-//ChamberMaster//Event Calendar 2.0//EN
METHOD:PUBLISH
X-PUBLISHED-TTL:P3D
REFRESH-INTERVAL:P3D
CALSCALE:GREGORIAN
BEGIN:VEVENT
DTSTART:20230728T140000Z
DTEND:20230915T150000Z
X-MICROSOFT-CDO-ALLDAYEVENT:FALSE
SUMMARY:Story Time at the Park
DESCRIPTION:Story Time at the Park\n\nJoin us for a fun story time in the park! We will have 20 minutes of songs\, dancing\, and a book. Then after everyone is free to play on the playground. we will be located near the Tri-Township Park's petting zoo. In case of bad weather park story time will be cancelled. \n\nQuestions:tritownship@gmail.com
X-ALT-DESC;FMTTYPE=text/html:<br />\nStory Time at the Park<br />\nJoin us for a fun story time in the park! We will have 20 minutes of songs\, dancing\, and a book. Then after everyone is free to play on the playground. we will be located near the Tri-Township Park&#39\;s petting zoo. In case of bad weather park story time will be cancelled.&nbsp\;<br />\nQuestions:tritownship@gmail.com
LOCATION:Tri-Township Park Zoo Wynona\, Troy\, IL 62294\, USA
UID:e.3456.5006
SEQUENCE:3
DTSTAMP:20260420T120700Z
URL:https://www.troymaryvillecoc.com/events/details/story-time-at-the-park-07-28-2023-5006
END:VEVENT

END:VCALENDAR
