BEGIN:VCALENDAR
VERSION:2.0
PRODID:-//ChamberMaster//Event Calendar 2.0//EN
METHOD:PUBLISH
X-PUBLISHED-TTL:P3D
REFRESH-INTERVAL:P3D
CALSCALE:GREGORIAN
BEGIN:VEVENT
DTSTART:20251123T000000Z
DTEND:20251123T040000Z
X-MICROSOFT-CDO-ALLDAYEVENT:FALSE
SUMMARY:Sue's 4th Annual Christmas for Kids Music Trivia
DESCRIPTION:$160 Per Table and 8 People to a table\n\nHeads or Tails\n\nMulligans 10 for $10\n\n50/50 Drawing "No Give Backs"\n\nSilent Auction
X-ALT-DESC;FMTTYPE=text/html:$160 Per Table and 8 People to a table<br />\nHeads or Tails<br />\nMulligans 10 for $10<br />\n50/50 Drawing &quot\;No Give Backs&quot\;<br />\nSilent Auction&nbsp\;<br />\n&nbsp\;
LOCATION:Amvets Hall Post #204 1711 Kennedy Dr.\, Madison\, IL 62060
UID:e.3456.10534
SEQUENCE:3
DTSTAMP:20260420T120808Z
URL:https://www.troymaryvillecoc.com/events/details/sue-s-4th-annual-christmas-for-kids-music-trivia-10534
END:VEVENT

END:VCALENDAR
