BEGIN:VCALENDAR
VERSION:2.0
PRODID:-//ChamberMaster//Event Calendar 2.0//EN
METHOD:PUBLISH
X-PUBLISHED-TTL:P3D
REFRESH-INTERVAL:P3D
CALSCALE:GREGORIAN
BEGIN:VEVENT
DTSTART:20251003T130000Z
DTEND:20251003T200000Z
X-MICROSOFT-CDO-ALLDAYEVENT:FALSE
SUMMARY:SWIC Manufacturing Day 2025
DESCRIPTION:
X-ALT-DESC;FMTTYPE=text/html:
LOCATION:Sam Wolf Granite City Campus 4950 Maryville Rd. 62040
UID:e.3456.10485
SEQUENCE:3
DTSTAMP:20260420T151928Z
URL:https://www.troymaryvillecoc.com/events/details/swic-manufacturing-day-2025-10485
END:VEVENT

END:VCALENDAR
