BEGIN:VCALENDAR
VERSION:2.0
PRODID:-//ChamberMaster//Event Calendar 2.0//EN
METHOD:PUBLISH
X-PUBLISHED-TTL:P3D
REFRESH-INTERVAL:P3D
CALSCALE:GREGORIAN
BEGIN:VEVENT
DTSTART:20251015T220000Z
DTEND:20251016T010000Z
X-MICROSOFT-CDO-ALLDAYEVENT:FALSE
SUMMARY:Tacos\, Tequila & a Taste of Mexico at Sav-On Liquor & Wine
DESCRIPTION:Tacos\, Tequila & a Taste of Mexico!   \n\n\n\nJoin us for a one-night-only fiesta with Cazadores Tequila perfectly paired with tacos from Tacos Oaxaca Margarita Bar & Mexican Restaurant!\n\n\n\n  Wednesday\, October 15th\n\n  5:00 PM   8:00 PM\n\n  Sav-On Liquor & Wine\, Edwardsville\n\n\n\n  FREE Event   Samples & Seating while they last\, so come early!\n\n\n\nDon't miss this unforgettable night of flavor & fun!
X-ALT-DESC;FMTTYPE=text/html:<div dir="auto" style="font-family: inherit\;">&#127790\;&#10024\; Tacos\, Tequila &amp\; a Taste of Mexico! &#10024\;&#129346\;<br />\n<br />\nJoin us for a one-night-only fiesta with Cazadores Tequila perfectly paired with tacos from Tacos Oaxaca Margarita Bar &amp\; Mexican Restaurant!<br />\n<br />\n&#128197\; Wednesday\, October 15th<br />\n&#128340\; 5:00 PM &ndash\; 8:00 PM<br />\n&#128205\; Sav-On Liquor &amp\; Wine\, Edwardsville<br />\n<br />\n&#127881\; FREE Event &ndash\; Samples &amp\; Seating while they last\, so come early!<br />\n<br />\nDon&rsquo\;t miss this unforgettable night of flavor &amp\; fun! &#128131\;&#127790\;&#129347\;</div>\n
LOCATION:Sav-On Liquor & Wine Edwardsville 6100 Center Grove Rd Edwardsville\, IL 62025
UID:e.3456.10512
SEQUENCE:3
DTSTAMP:20260420T170954Z
URL:https://www.troymaryvillecoc.com/events/details/tacos-tequila-a-taste-of-mexico-at-sav-on-liquor-wine-10512
END:VEVENT

END:VCALENDAR
