BEGIN:VCALENDAR
VERSION:2.0
PRODID:-//ChamberMaster//Event Calendar 2.0//EN
METHOD:PUBLISH
X-PUBLISHED-TTL:P3D
REFRESH-INTERVAL:P3D
CALSCALE:GREGORIAN
BEGIN:VEVENT
DTSTART:20230913T163000Z
DTEND:20230913T180000Z
X-MICROSOFT-CDO-ALLDAYEVENT:FALSE
SUMMARY:The Outlet Event Center Speaker Series
DESCRIPTION:Edison's and The Outlet have teamed up to create a motivational and educational speaker series that will be offered quarterly. The first speaker in the series will be Scott Harvey\, author of Silence Kills\, speaker\, trainer & change agent with expertise in communication (www.speakingofharvey.com).\n\n\n\nFeaturing Guest Presenter\n\nScott Harvey\n\nFBI trained hostage negotiator & author of Silence Kills\n\nScott provided a thought provoking \, motivating\, and inspirational look at communication through some engaging story telling. He provided lessons that can e applied to your everyday & professional lives. \n\n\n\nTicket Includes:\n\n	Buffet Lunch & Beverage\n	A copy of the book\, Silence Kills\n	A Meaningful Presentation\n\nWho Should Attend?:\n\n\n	Law Enforcement & First Responders\n	Educators & Administrators\n	Business Owners\n	C-Suite Professionals (CEO\, COO\, CIO\, CMO)\n	Students\n	Anyone Interested in Improving their Communication Skills\n\nTo RSVP: \n\n\n	Call (618) 307-5934 OR\n	Email: michaelt@edisonsfun.com
X-ALT-DESC;FMTTYPE=text/html:<br>\nEdison's and The Outlet have teamed up to create a motivational and educational speaker series that will be offered quarterly. The first speaker in the series will be Scott Harvey\, author of Silence Kills\, speaker\, trainer &amp\; change agent with expertise in communication (www.speakingofharvey.com).<br>\n<br>\nFeaturing Guest Presenter<br>\n<span style="font-size:18px\;">Scott Harvey</span><br>\nFBI trained hostage negotiator &amp\; author of Silence Kills<br>\nScott provided a thought provoking \, motivating\, and inspirational look at communication through some engaging story telling. He provided lessons that can e applied to your everyday &amp\; professional lives.&nbsp\;<br>\n<br>\nTicket Includes:\n<ul>\n	<li>Buffet Lunch &amp\; Beverage</li>\n	<li>A copy of the book\, Silence Kills</li>\n	<li>A Meaningful Presentation</li>\n</ul>\nWho Should Attend?:\n\n<ul>\n	<li>Law Enforcement &amp\; First Responders</li>\n	<li>Educators &amp\; Administrators</li>\n	<li>Business Owners</li>\n	<li>C-Suite Professionals (CEO\, COO\, CIO\, CMO)</li>\n	<li>Students</li>\n	<li>Anyone Interested in Improving their Communication Skills</li>\n</ul>\n<strong>To RSVP:&nbsp\;</strong>\n\n<ul>\n	<li>Call (618) 307-5934 OR</li>\n	<li>Email: michaelt@edisonsfun.com</li>\n</ul>\n
LOCATION:The Outlet (at Edison's) 2477 S. State Route 157 Edwardsville\, IL 62025
UID:e.3456.6997
SEQUENCE:3
DTSTAMP:20260420T120431Z
URL:https://www.troymaryvillecoc.com/events/details/the-outlet-event-center-speaker-series-6997
END:VEVENT

END:VCALENDAR
