BEGIN:VCALENDAR
VERSION:2.0
PRODID:-//ChamberMaster//Event Calendar 2.0//EN
METHOD:PUBLISH
X-PUBLISHED-TTL:P3D
REFRESH-INTERVAL:P3D
CALSCALE:GREGORIAN
BEGIN:VEVENT
DTSTART:20251213T170000Z
DTEND:20251213T180000Z
X-MICROSOFT-CDO-ALLDAYEVENT:FALSE
SUMMARY:The Reindeer are coming!
DESCRIPTION:Holly Leaf Farms will once again be here with their Reindeer on December 13th from 11-12.\n\nStop by for some hot cocoa\, pictures with Santa\, and  get up and personal with the adorable Reindeer!!!
X-ALT-DESC;FMTTYPE=text/html:Holly Leaf Farms will once again be here with their Reindeer on December 13th from 11-12.<br />\nStop by for some hot cocoa\, pictures with Santa\, and&nbsp\; get up and personal with the adorable Reindeer!!!
LOCATION:Cambridge House of Maryville 6960 State Rt. 162 Maryville\, IL 62062
UID:e.3456.10531
SEQUENCE:3
DTSTAMP:20260420T103017Z
URL:https://www.troymaryvillecoc.com/events/details/the-reindeer-are-coming-10531
END:VEVENT

END:VCALENDAR
