BEGIN:VCALENDAR
VERSION:2.0
PRODID:-//ChamberMaster//Event Calendar 2.0//EN
METHOD:PUBLISH
X-PUBLISHED-TTL:P3D
REFRESH-INTERVAL:P3D
CALSCALE:GREGORIAN
BEGIN:VEVENT
DTSTART:20251002T223000Z
DTEND:20251003T003000Z
X-MICROSOFT-CDO-ALLDAYEVENT:FALSE
SUMMARY:The Wedge + SIUE Showcase
DESCRIPTION:Green Building Collective \n\nAn Incubator for Clean Energy and Construction Contractors
X-ALT-DESC;FMTTYPE=text/html:Green Building Collective&nbsp\;<br />\nAn Incubator for Clean Energy and Construction Contractors
LOCATION:620 E. Broadway\, Alton\, IL 62002
UID:e.3456.10506
SEQUENCE:3
DTSTAMP:20260420T151718Z
URL:https://www.troymaryvillecoc.com/events/details/the-wedge-siue-showcase-10506
END:VEVENT

END:VCALENDAR
