BEGIN:VCALENDAR
VERSION:2.0
PRODID:-//ChamberMaster//Event Calendar 2.0//EN
METHOD:PUBLISH
X-PUBLISHED-TTL:P3D
REFRESH-INTERVAL:P3D
CALSCALE:GREGORIAN
BEGIN:VEVENT
DTSTART:20251116T000000Z
DTEND:20251116T040000Z
X-MICROSOFT-CDO-ALLDAYEVENT:FALSE
SUMMARY:Trees of Hope
DESCRIPTION:
X-ALT-DESC;FMTTYPE=text/html:
LOCATION:Gateway Convention Center 1 Gateway Drive\, Collinsville IL 62234
UID:e.3456.10010
SEQUENCE:3
DTSTAMP:20260420T120243Z
URL:https://www.troymaryvillecoc.com/events/details/trees-of-hope-10010
END:VEVENT

END:VCALENDAR
