BEGIN:VCALENDAR
VERSION:2.0
PRODID:-//ChamberMaster//Event Calendar 2.0//EN
METHOD:PUBLISH
X-PUBLISHED-TTL:P3D
REFRESH-INTERVAL:P3D
CALSCALE:GREGORIAN
BEGIN:VEVENT
DTSTART:20230901T140000Z
DTEND:20230901T170000Z
X-MICROSOFT-CDO-ALLDAYEVENT:FALSE
SUMMARY:Tri-Township Library Book Sale
DESCRIPTION:The Friends of the Tri-Township Library hold book sales to benefit the library. Sales consist of donated materials and items range in cost from ten cents to two dollars.
X-ALT-DESC;FMTTYPE=text/html:<span style="color: rgb(0\, 0\, 0)\; font-family: Arial\, sans-serif\; font-size: 12px\; white-space: pre-wrap\;">The Friends of the Tri-Township Library hold book sales to benefit the library. Sales consist of donated materials and items range in cost from ten cents to two dollars. </span>
LOCATION:Tri-Township Library
UID:e.3456.4633
SEQUENCE:3
DTSTAMP:20260420T120627Z
URL:https://www.troymaryvillecoc.com/events/details/tri-township-library-book-sale-09-01-2023-4633
END:VEVENT

END:VCALENDAR
