BEGIN:VCALENDAR
VERSION:2.0
PRODID:-//ChamberMaster//Event Calendar 2.0//EN
METHOD:PUBLISH
X-PUBLISHED-TTL:P3D
REFRESH-INTERVAL:P3D
CALSCALE:GREGORIAN
BEGIN:VEVENT
DTSTART:20230906T000000Z
DTEND:20230906T020000Z
X-MICROSOFT-CDO-ALLDAYEVENT:FALSE
SUMMARY:Tri-Township Library Trustees Meeting
DESCRIPTION:The Board meets the first Tuesday of each month at 7:00 pm in the Lower Level Conference Room to discuss the state of the library\, plans for the future and other issues. An agenda is posted at the Library prior to the meeting. Meetings are open to the public unless otherwise noted.
X-ALT-DESC;FMTTYPE=text/html:<span class="adatext" style="box-sizing: border-box\; outline: none\; margin: 0px\; padding: 0px\; border: 0px\; font-variant-numeric: inherit\; font-variant-east-asian: inherit\; font-stretch: inherit\; line-height: inherit\; font-family: Roboto\, serif\; font-size: 14px\; text-align: center\; background-color: rgb(255\, 255\, 255)\;">The Board meets the first Tuesday of each month at 7:00 pm&nbsp\;</span><span class="adatext" style="box-sizing: border-box\; outline: none\; margin: 0px\; padding: 0px\; border: 0px\; font-variant-numeric: inherit\; font-variant-east-asian: inherit\; font-stretch: inherit\; line-height: inherit\; font-family: Roboto\, serif\; font-size: 14px\; text-align: center\; background-color: rgb(255\, 255\, 255)\;">in the Lower Level Conference Room to discuss the state of the library\, plans for the future and other issues. An agenda is posted&nbsp\;</span><span class="adatext" style="box-sizing: border-box\; outline: none\; margin: 0px\; padding: 0px\; border: 0px\; font-variant-numeric: inherit\; font-variant-east-asian: inherit\; font-stretch: inherit\; line-height: inherit\; font-family: Roboto\, serif\; font-size: 14px\; text-align: center\; background-color: rgb(255\, 255\, 255)\;">at the Library prior to the meeting. Meetings are open to the&nbsp\;</span><span class="adatext" style="box-sizing: border-box\; outline: none\; margin: 0px\; padding: 0px\; border: 0px\; font-variant-numeric: inherit\; font-variant-east-asian: inherit\; font-stretch: inherit\; line-height: inherit\; font-family: Roboto\, serif\; font-size: 14px\; text-align: center\; background-color: rgb(255\, 255\, 255)\;">public unless otherwise noted.</span>
LOCATION:Lower Level Conference Room of the Tri-Township Library 209 South Main Street Troy\, IL
UID:e.3456.4651
SEQUENCE:3
DTSTAMP:20260420T120502Z
URL:https://www.troymaryvillecoc.com/events/details/tri-township-library-trustees-meeting-09-05-2023-4651
END:VEVENT

END:VCALENDAR
