BEGIN:VCALENDAR
VERSION:2.0
PRODID:-//ChamberMaster//Event Calendar 2.0//EN
METHOD:PUBLISH
X-PUBLISHED-TTL:P3D
REFRESH-INTERVAL:P3D
CALSCALE:GREGORIAN
BEGIN:VEVENT
DTSTART:20230907T000000Z
DTEND:20230907T010000Z
X-MICROSOFT-CDO-ALLDAYEVENT:FALSE
SUMMARY:Troy Genealogical Society
DESCRIPTION:Our mission is to promote family history research through sharing of resources and ideas as a group. Visitors are welcome.\n\nQuestions:tritownship@gmail.com
X-ALT-DESC;FMTTYPE=text/html:Our mission is to promote family history research through sharing of resources and ideas as a group. Visitors are welcome.<br />\nQuestions:tritownship@gmail.com
LOCATION:
UID:e.3456.5935
SEQUENCE:3
DTSTAMP:20260420T120625Z
URL:https://www.troymaryvillecoc.com/events/details/troy-genealogical-society-09-06-2023-5935
END:VEVENT

END:VCALENDAR
