BEGIN:VCALENDAR
VERSION:2.0
PRODID:-//ChamberMaster//Event Calendar 2.0//EN
METHOD:PUBLISH
X-PUBLISHED-TTL:P3D
REFRESH-INTERVAL:P3D
CALSCALE:GREGORIAN
BEGIN:VEVENT
DTSTART:20230916T230000Z
DTEND:20230917T020000Z
X-MICROSOFT-CDO-ALLDAYEVENT:FALSE
SUMMARY:Troy/Maryville/St. Jacob/Marine Chamber of Commerce GloBingo 2023
DESCRIPTION:*Must be 21 or older*
X-ALT-DESC;FMTTYPE=text/html:<br />\n<strong><span style="font-size:16px\;"><u>*Must be 21 or older*</u></span></strong>
LOCATION:Tri-Township Activity Center 284 Riggin Road Troy\, IL 62294
UID:e.3456.6357
SEQUENCE:3
DTSTAMP:20260420T121035Z
URL:https://www.troymaryvillecoc.com/events/details/troy-maryville-st-jacob-marine-chamber-of-commerce-globingo-2023-6357
END:VEVENT

END:VCALENDAR
