BEGIN:VCALENDAR
VERSION:2.0
PRODID:-//ChamberMaster//Event Calendar 2.0//EN
METHOD:PUBLISH
X-PUBLISHED-TTL:P3D
REFRESH-INTERVAL:P3D
CALSCALE:GREGORIAN
BEGIN:VEVENT
DTSTART:20251019T200000Z
DTEND:20251019T220000Z
X-MICROSOFT-CDO-ALLDAYEVENT:FALSE
SUMMARY:Trunk or Treat with Anderson Healthcare
DESCRIPTION:Trunk or Treat with Anderson Healthcare
X-ALT-DESC;FMTTYPE=text/html:Trunk or Treat with Anderson Healthcare&nbsp\;
LOCATION:6812 State Route 162\, Maryville\, IL 62062-8553\, United States
UID:e.3456.10508
SEQUENCE:3
DTSTAMP:20260420T170954Z
URL:https://www.troymaryvillecoc.com/events/details/trunk-or-treat-with-anderson-healthcare-10508
END:VEVENT

END:VCALENDAR
