BEGIN:VCALENDAR
VERSION:2.0
PRODID:-//ChamberMaster//Event Calendar 2.0//EN
METHOD:PUBLISH
X-PUBLISHED-TTL:P3D
REFRESH-INTERVAL:P3D
CALSCALE:GREGORIAN
BEGIN:VEVENT
DTSTART:20230908T120000Z
DTEND:20230909T200000Z
X-MICROSOFT-CDO-ALLDAYEVENT:FALSE
SUMMARY:Village Wide Yard Sales
DESCRIPTION:
X-ALT-DESC;FMTTYPE=text/html:
LOCATION:Village Wide Maryville\, IL 62062
UID:e.3456.6340
SEQUENCE:3
DTSTAMP:20260420T120446Z
URL:https://www.troymaryvillecoc.com/events/details/village-wide-yard-sales-6340
END:VEVENT

END:VCALENDAR
