BEGIN:VCALENDAR
VERSION:2.0
PRODID:-//ChamberMaster//Event Calendar 2.0//EN
METHOD:PUBLISH
X-PUBLISHED-TTL:P3D
REFRESH-INTERVAL:P3D
CALSCALE:GREGORIAN
BEGIN:VEVENT
DTSTART:20251213T150000Z
DTEND:20251213T220000Z
X-MICROSOFT-CDO-ALLDAYEVENT:FALSE
SUMMARY:Winter Wonderland Craft & Vendor Show
DESCRIPTION:Craft and Vendor Show\n\nCome get your holiday shopping done early!
X-ALT-DESC;FMTTYPE=text/html:Craft and Vendor Show<br />\nCome get your holiday shopping done early!
LOCATION:SWIC Sam Wolf Granite City Campus 4950 Maryville Rd\, Granite City\, IL
UID:e.3456.10523
SEQUENCE:3
DTSTAMP:20260420T103655Z
URL:https://www.troymaryvillecoc.com/events/details/winter-wonderland-craft-vendor-show-10523
END:VEVENT

END:VCALENDAR
