BEGIN:VCALENDAR
VERSION:2.0
PRODID:-//ChamberMaster//Event Calendar 2.0//EN
METHOD:PUBLISH
X-PUBLISHED-TTL:P3D
REFRESH-INTERVAL:P3D
CALSCALE:GREGORIAN
BEGIN:VEVENT
DTSTART:20251117T230000Z
DTEND:20251120T010000Z
X-MICROSOFT-CDO-ALLDAYEVENT:FALSE
SUMMARY:Workforce Fundamentals - Business Bootcamp
DESCRIPTION:3 Day Event: Monday - Wednesday\n\nFree Professional Development Workshops\n\nOur expert-led sessions provide hands-on learning\, practical insights\, and valuable networking opportunities to help you excel in your field.
X-ALT-DESC;FMTTYPE=text/html:3 Day Event: Monday - Wednesday<br />\nFree Professional Development Workshops<br />\nOur expert-led sessions provide hands-on learning\, practical insights\, and valuable networking opportunities to help you excel in your field.&nbsp\;
LOCATION:Virtual
UID:e.3456.10495
SEQUENCE:3
DTSTAMP:20260420T133714Z
URL:https://www.troymaryvillecoc.com/events/details/workforce-fundamentals-business-bootcamp-10495
END:VEVENT

END:VCALENDAR
