BEGIN:VCALENDAR
VERSION:2.0
PRODID:-//ChamberMaster//Event Calendar 2.0//EN
METHOD:PUBLISH
X-PUBLISHED-TTL:P3D
REFRESH-INTERVAL:P3D
CALSCALE:GREGORIAN
BEGIN:VEVENT
DTSTART:20251013T210000Z
DTEND:20251015T230000Z
X-MICROSOFT-CDO-ALLDAYEVENT:FALSE
SUMMARY:Workforce Fundamentals - Emotional Intelligence
DESCRIPTION:Free Professional Development Workshops\n\n3 Day Event: Monday - Wednesday\n\nOur expert-led sessions provide hands-on learning\, practical insights\, and valuable networking opportunities to help you excel in your field.
X-ALT-DESC;FMTTYPE=text/html:Free Professional Development Workshops<br />\n3 Day Event: Monday - Wednesday<br />\nOur expert-led sessions provide hands-on learning\, practical insights\, and valuable networking opportunities to help you excel in your field.&nbsp\;
LOCATION:Virtual
UID:e.3456.10490
SEQUENCE:3
DTSTAMP:20260420T151440Z
URL:https://www.troymaryvillecoc.com/events/details/workforce-fundamentals-emotional-intelligence-10490
END:VEVENT

END:VCALENDAR
