BEGIN:VCALENDAR
VERSION:2.0
PRODID:-//ChamberMaster//Event Calendar 2.0//EN
METHOD:PUBLISH
X-PUBLISHED-TTL:P3D
REFRESH-INTERVAL:P3D
CALSCALE:GREGORIAN
BEGIN:VEVENT
DTSTART:20251106T220000Z
DTEND:20251107T000000Z
X-MICROSOFT-CDO-ALLDAYEVENT:FALSE
SUMMARY:Workforce Fundamentals - Financial Literacy
DESCRIPTION:- 18 years of age and older\n\n- Free professional development training workshops\n\n- Investing\, Taxes\, and Benefits
X-ALT-DESC;FMTTYPE=text/html:- 18 years of age and older<br />\n- Free professional development training workshops<br />\n-&nbsp\;<span style="color: rgb(0\, 0\, 0)\; font-family: Helvetica\; font-size: 12px\;">Investing\, Taxes\, and Benefits</span><br />\n&nbsp\;
LOCATION:All Classes will be held virtually. A link will be sent to you the day prior to class.
UID:e.3456.10498
SEQUENCE:3
DTSTAMP:20260420T120244Z
URL:https://www.troymaryvillecoc.com/events/details/workforce-fundamentals-financial-literacy-10498
END:VEVENT

END:VCALENDAR
