BEGIN:VCALENDAR
VERSION:2.0
PRODID:-//ChamberMaster//Event Calendar 2.0//EN
METHOD:PUBLISH
X-PUBLISHED-TTL:P3D
REFRESH-INTERVAL:P3D
CALSCALE:GREGORIAN
BEGIN:VEVENT
DTSTART:20251111T223000Z
DTEND:20251112T010000Z
X-MICROSOFT-CDO-ALLDAYEVENT:FALSE
SUMMARY:Workforce Fundamentals - Financial Literacy
DESCRIPTION:- 18 years of age and older\n\n- Free professional development training workshops\n\n- Financial Well-Being Principles\, Making Money & Money Management\, Budgeting
X-ALT-DESC;FMTTYPE=text/html:- 18 years of age and older<br />\n- Free professional development training workshops<br />\n-&nbsp\;<span style="color: rgb(0\, 0\, 0)\; font-family: Helvetica\; font-size: 12px\;">Financial Well-Being Principles\, Making Money &amp\; Money Management\, Budgeting&nbsp\;</span><br />\n&nbsp\;
LOCATION:All Classes will be held virtually. A link will be sent to you the day prior to class.
UID:e.3456.10499
SEQUENCE:3
DTSTAMP:20260420T120243Z
URL:https://www.troymaryvillecoc.com/events/details/workforce-fundamentals-financial-literacy-10499
END:VEVENT

END:VCALENDAR
