BEGIN:VCALENDAR
VERSION:2.0
PRODID:-//ChamberMaster//Event Calendar 2.0//EN
METHOD:PUBLISH
X-PUBLISHED-TTL:P3D
REFRESH-INTERVAL:P3D
CALSCALE:GREGORIAN
BEGIN:VEVENT
DTSTART:20251017T200000Z
DTEND:20251017T220000Z
X-MICROSOFT-CDO-ALLDAYEVENT:FALSE
SUMMARY:Workforce Fundamentals - Financial Literacy
DESCRIPTION:- 18 years of age and older\n\n- FREE professional development training workshops\n\n- Investing\, taxes\, and benefits
X-ALT-DESC;FMTTYPE=text/html:- 18 years of age and older<br />\n- FREE professional development training workshops<br />\n- Investing\, taxes\, and benefits
LOCATION:All Classes will be held virtually. A link will be sent to you the day prior to class.
UID:e.3456.10502
SEQUENCE:3
DTSTAMP:20260420T170226Z
URL:https://www.troymaryvillecoc.com/events/details/workforce-fundamentals-financial-literacy-10502
END:VEVENT

END:VCALENDAR
